﻿BEGIN:VCALENDAR
VERSION:2.0
PRODID:-//Asociación Vecinal La Serena - ECPv5.9.0//NONSGML v1.0//EN
CALSCALE:GREGORIAN
METHOD:PUBLISH
X-WR-CALNAME:Asociación Vecinal La Serena
X-ORIGINAL-URL:https://asociacionlaserena.es
X-WR-CALDESC:Eventos para Asociación Vecinal La Serena
BEGIN:VTIMEZONE
TZID:Europe/Helsinki
BEGIN:DAYLIGHT
TZOFFSETFROM:+0200
TZOFFSETTO:+0300
TZNAME:EEST
DTSTART:20250330T010000
END:DAYLIGHT
BEGIN:STANDARD
TZOFFSETFROM:+0300
TZOFFSETTO:+0200
TZNAME:EET
DTSTART:20251026T010000
END:STANDARD
END:VTIMEZONE
BEGIN:VEVENT
DTSTART;TZID=Europe/Helsinki:20251110T190000
DTEND;TZID=Europe/Helsinki:20251110T210000
DTSTAMP:20260421T114507
CREATED:20251105T180030Z
LAST-MODIFIED:20251105T153358Z
UID:5353-1762801200-1762808400@asociacionlaserena.es
SUMMARY:¡Llega nuestra nueva TERTULIA CIUDADANA!
DESCRIPTION:Únete al debate sobre un tema que está presente en nuestra sociedad actual:\nEL EDADISMO. La discriminación por edad que sufren sectores de la población y sus consecuencias. \nEntre otras\, debatiremos sobre las siguientes cuestiones:\n✅El edadismo y la brecha generacional.\n✅Causas del edadismo y efectos que produce.\n✅El edadismo institucional\, el interpersonal y el autoinflingido o dirigido contra uno mismo.\n✅Estrategias y medidas para reducir y eliminar el edadismo. \n📆 Lunes 10 de noviembre\n🕖 19:00 horas\n📍 Aula 4 CMI El Llano \nAcude y participa con tu opinión en un tema tan importante como este\, que afecta tanto a las personas mayores como a las jóvenes. \nContribuir a conformar el debate y alcanzar las conclusiones es responsabilidad cívica de todos.\n¡Te esperamos!
URL:https://asociacionlaserena.es/evento/llega-nuestra-nueva-tertulia-ciudadana/
LOCATION:CMI El Llano\, Calle Río de Oro\, 37\, Gijón\, Asturias\, 33209\, España
CATEGORIES:Charlas dinamizadoras
ATTACH;FMTTYPE=image/jpeg:https://asociacionlaserena.es/wp-content/uploads/Cartel-A4-125.jpg
ORGANIZER;CN="Asociaci%C3%B3n%20Vecinal%20La%20Serena":MAILTO:info@asociacionlaserena.es
END:VEVENT
END:VCALENDAR