﻿BEGIN:VCALENDAR
VERSION:2.0
PRODID:-//Asociación Vecinal La Serena - ECPv5.9.0//NONSGML v1.0//EN
CALSCALE:GREGORIAN
METHOD:PUBLISH
X-WR-CALNAME:Asociación Vecinal La Serena
X-ORIGINAL-URL:https://asociacionlaserena.es
X-WR-CALDESC:Eventos para Asociación Vecinal La Serena
BEGIN:VTIMEZONE
TZID:Europe/Helsinki
BEGIN:DAYLIGHT
TZOFFSETFROM:+0200
TZOFFSETTO:+0300
TZNAME:EEST
DTSTART:20240331T010000
END:DAYLIGHT
BEGIN:STANDARD
TZOFFSETFROM:+0300
TZOFFSETTO:+0200
TZNAME:EET
DTSTART:20241027T010000
END:STANDARD
END:VTIMEZONE
BEGIN:VEVENT
DTSTART;TZID=Europe/Helsinki:20241031T170000
DTEND;TZID=Europe/Helsinki:20241103T220000
DTSTAMP:20260421T114354
CREATED:20241012T170025Z
LAST-MODIFIED:20241012T095042Z
UID:4186-1730394000-1730671200@asociacionlaserena.es
SUMMARY:Fiestas de Samaín 2024
DESCRIPTION:¡Ya llegan las mejores Fiestas de Samaín de Gijón! \n\n\n\n¿Dónde van a ser? pues por supuesto que en El Llano y organizadas por la AV La Serena. \n\n\n\nEl evento tendrá lugar desde 31 de octubre al 3 de noviembre en la Plaza 3 de Abril\, junto a las piscinas de El Llano. \nTendremos una carpa y caballitos instalados para el disfrute de todos los asistentes además de una amplia programación de actividades para toda la familia\, entre las que destacan: \n\n\n Desfiles de seres fantásticos.\n Truco o trato en más de 60 comercios\n Locales encantados\n Actividades para niños y adultos.\n Música y baile en directo\n Gastronomía \n\n\n\n¡No te pierdas las mejores fiestas de Samaín de Gijón!
URL:https://asociacionlaserena.es/evento/fiestas-de-samain-2024/
LOCATION:Explanada de las Piscinas de El Llano\, Plaza 3 de Abril\, Gijón\, Asturias\, España
CATEGORIES:Fiestas de Samaín
ATTACH;FMTTYPE=image/jpeg:https://asociacionlaserena.es/wp-content/uploads/Cartel-A3.jpg
ORGANIZER;CN="Asociaci%C3%B3n%20Vecinal%20La%20Serena":MAILTO:info@asociacionlaserena.es
END:VEVENT
END:VCALENDAR