﻿BEGIN:VCALENDAR
VERSION:2.0
PRODID:-//Asociación Vecinal La Serena - ECPv5.9.0//NONSGML v1.0//EN
CALSCALE:GREGORIAN
METHOD:PUBLISH
X-WR-CALNAME:Asociación Vecinal La Serena
X-ORIGINAL-URL:https://asociacionlaserena.es
X-WR-CALDESC:Eventos para Asociación Vecinal La Serena
BEGIN:VTIMEZONE
TZID:Europe/Helsinki
BEGIN:DAYLIGHT
TZOFFSETFROM:+0200
TZOFFSETTO:+0300
TZNAME:EEST
DTSTART:20240331T010000
END:DAYLIGHT
BEGIN:STANDARD
TZOFFSETFROM:+0300
TZOFFSETTO:+0200
TZNAME:EET
DTSTART:20241027T010000
END:STANDARD
END:VTIMEZONE
BEGIN:VEVENT
DTSTART;TZID=Europe/Helsinki:20240421T090000
DTEND;TZID=Europe/Helsinki:20240421T210000
DTSTAMP:20260419T163020
CREATED:20240331T200021Z
LAST-MODIFIED:20240331T155702Z
UID:3763-1713690000-1713733200@asociacionlaserena.es
SUMMARY:Excursión a las Ayalgas de Silviella y al Museo del Lobo
DESCRIPTION:🌟🎨🐺 ¡Excursión cultural y aventurera! 🐺🎨🌟\n\n\n \n\n\n📅 Domingo 21 de abril 📅\n\n\n \n\n\n¡Únete a nosotros en una jornada llena de descubrimientos y delicias gastronómicas! 🚌\n\n\n \n\n\nItinerario:\n\n\n– 09:00: Salida desde el Parque de La Serena.\n\n\n– 09:45: En Grado\, desayuno y visita al mercado.\n\n\n– 12:00: Emociónate explorando el fascinante Museo de las Ayalgas de Silviella. 🚗💨 Conoce la historia industrial y rural de Asturias entre vehículos\, fraguas y más.\n\n\n– 14:30: ¡Hora de satisfacer el apetito en Belmonte de Miranda! Degustaremos un exquisito menú:\n\n\n – 1º: Arroz caldoso de marisco.\n\n\n – 2º: Escalopines al cabrales.\n\n\n – Postre: Requesón de Tineo.\n\n\n – Bebidas: Vino\, agua\, casera\, café y chupito.\n\n\n– Por la tarde: Sumérgete en el mundo del Museo del Lobo con una visita guiada al cercado de estos majestuosos animales. 🌲🐾\n\n\n– Regreso a Gijón.\n\n\n \n\n\nPrecios:\n\n\n– Socio: 55€ por persona.\n\n\n– No socio: 60€ por persona.\n\n\n \n\n\nEl precio incluye autobús\, entradas a los museos\, comida y seguro de viaje.\n\n\n \n\n\n📝 ¡Inscríbete ya! 📝\n\n\n¡Visítanos en el local de la asociación en la calle Saavedra\, 49\, o reserva tu plaza por WhatsApp en el 644 87 19 17!\n\n\n \n\n\n¡No te pierdas esta oportunidad única de explorar y disfrutar! 🎉🚌🌄
URL:https://asociacionlaserena.es/evento/excursion-a-las-ayalgas-de-silviella-y-al-museo-del-lobo/
CATEGORIES:Excursiones
ATTACH;FMTTYPE=image/jpeg:https://asociacionlaserena.es/wp-content/uploads/Cartel-A4-33.jpg
ORGANIZER;CN="Asociaci%C3%B3n%20Vecinal%20La%20Serena":MAILTO:info@asociacionlaserena.es
END:VEVENT
END:VCALENDAR