﻿BEGIN:VCALENDAR
VERSION:2.0
PRODID:-//Asociación Vecinal La Serena - ECPv5.9.0//NONSGML v1.0//EN
CALSCALE:GREGORIAN
METHOD:PUBLISH
X-WR-CALNAME:Asociación Vecinal La Serena
X-ORIGINAL-URL:https://asociacionlaserena.es
X-WR-CALDESC:Eventos para Asociación Vecinal La Serena
BEGIN:VTIMEZONE
TZID:Europe/Helsinki
BEGIN:DAYLIGHT
TZOFFSETFROM:+0200
TZOFFSETTO:+0300
TZNAME:EEST
DTSTART:20240331T010000
END:DAYLIGHT
BEGIN:STANDARD
TZOFFSETFROM:+0300
TZOFFSETTO:+0200
TZNAME:EET
DTSTART:20241027T010000
END:STANDARD
END:VTIMEZONE
BEGIN:VEVENT
DTSTART;TZID=Europe/Helsinki:20241019T100000
DTEND;TZID=Europe/Helsinki:20241019T203000
DTSTAMP:20260421T114513
CREATED:20240925T190010Z
LAST-MODIFIED:20240922T183223Z
UID:4138-1729332000-1729369800@asociacionlaserena.es
SUMMARY:Excursión a la Ruta Teatralizada "La Aldea Perdida"
DESCRIPTION:¡Embárcate en una Ruta Literaria Teatralizada inspirada en la novela «La aldea perdida» de Palacio Valdés!  \n  \n\n\n\n\nEl sábado 19 de octubre\, te invitamos a vivir una experiencia literaria única en un encantador paseo al aire libre desde el pueblo de Entralgo hasta Villoria. A lo largo del camino\, los personajes de la novela cobrarán vida para contarte historias\, interactuar contigo y ofrecerte deliciosas degustaciones de productos locales. \n\n\n\n Programa del día:\n10:00 – Salida desde Gijón\, Parque de la Serena\n11:30 – Inicio de la ruta teatralizada\n14:30 – Comida espicha\n16:00 – Música en directo\n\n19:00 – Regreso a Gijón \n\n\n\n Precios:\nGratuito para menores de 29 años\n45€ para socios\n\n50€ para no socios \n\n\n\n\n¡Plazas limitadas! No te pierdas esta oportunidad de combinar literatura\, teatro y gastronomía en un solo día. Para inscribirte\, contacta por teléfono o WhatsApp al 644 87 19 17. \n\n\n\n¡Únete a nosotros para una jornada llena de magia y tradición basada en la célebre obra de Palacio Valdés!
URL:https://asociacionlaserena.es/evento/excursion-a-la-ruta-teatralizada-la-aldea-perdida/
CATEGORIES:Excursiones,Vocalía de la juventud
ATTACH;FMTTYPE=image/jpeg:https://asociacionlaserena.es/wp-content/uploads/Cartel-A4-59.jpg
ORGANIZER;CN="Vocal%C3%ADa%20de%20la%20juventud%20de%20la%20Asociaci%C3%B3n%20Vecinal%20La%20Serena":MAILTO:juventud@asociacionlaserena.es
END:VEVENT
END:VCALENDAR