﻿BEGIN:VCALENDAR
VERSION:2.0
PRODID:-//Asociación Vecinal La Serena - ECPv5.9.0//NONSGML v1.0//EN
CALSCALE:GREGORIAN
METHOD:PUBLISH
X-WR-CALNAME:Asociación Vecinal La Serena
X-ORIGINAL-URL:https://asociacionlaserena.es
X-WR-CALDESC:Eventos para Asociación Vecinal La Serena
BEGIN:VTIMEZONE
TZID:Europe/Helsinki
BEGIN:DAYLIGHT
TZOFFSETFROM:+0200
TZOFFSETTO:+0300
TZNAME:EEST
DTSTART:20260329T010000
END:DAYLIGHT
BEGIN:STANDARD
TZOFFSETFROM:+0300
TZOFFSETTO:+0200
TZNAME:EET
DTSTART:20261025T010000
END:STANDARD
END:VTIMEZONE
BEGIN:VEVENT
DTSTART;TZID=Europe/Helsinki:20260424T180000
DTEND;TZID=Europe/Helsinki:20260424T210000
DTSTAMP:20260421T144853
CREATED:20260420T170041Z
LAST-MODIFIED:20260420T090859Z
UID:5896-1777053600-1777064400@asociacionlaserena.es
SUMMARY:CLUB DE AJEDREZ DE LA SERENA
DESCRIPTION:♟️ Una tarde más\, volvemos a reunirnos en torno a tableros\, partidas y jugadas\, en el mejor ambiente de compañerismo y sana rivalidad. \n♟️ Si quieres seguir aprendiendo y mejorar tu nivel de juego\, únete a nosotros y sigue las estrategias y consejos de nuestro experto. \n♟️ De igual manera\, si tu deseo es probar e iniciarte en este apasionante juego\, únete a nuestro grupo. Abierto a todos los niveles y edades. \n📆 Viernes 24 de abril\n🕖 18:00 horas\n📍 Local de calle Saavedra 49\n📱 Apúntate en el tfno. 644 87 19 17 \nIMPORTANTE: Si pruebas y decides para el futuro pertenecer a nuestro Club de Ajedrez\, será imprescindible ser socio de nuestra Asociación (cuota anual de 12 €). \n¡No faltes! ¡Te esperamos!. ¡Acude con tus familiares o amigos!
URL:https://asociacionlaserena.es/evento/club-de-ajedrez-de-la-serena-10/
LOCATION:Asociación Vecinal La Serena\, Calle Saavedra\, 49\, Gijón\, Asturias\, 33208\, España
CATEGORIES:Ajedrez
ATTACH;FMTTYPE=image/jpeg:https://asociacionlaserena.es/wp-content/uploads/WhatsApp-Image-2026-04-20-at-10.15.50.jpeg
ORGANIZER;CN="Asociaci%C3%B3n%20Vecinal%20La%20Serena":MAILTO:info@asociacionlaserena.es
END:VEVENT
END:VCALENDAR