﻿BEGIN:VCALENDAR
VERSION:2.0
PRODID:-//Asociación Vecinal La Serena - ECPv5.9.0//NONSGML v1.0//EN
CALSCALE:GREGORIAN
METHOD:PUBLISH
X-WR-CALNAME:Asociación Vecinal La Serena
X-ORIGINAL-URL:https://asociacionlaserena.es
X-WR-CALDESC:Eventos para Asociación Vecinal La Serena
BEGIN:VTIMEZONE
TZID:Europe/Helsinki
BEGIN:DAYLIGHT
TZOFFSETFROM:+0200
TZOFFSETTO:+0300
TZNAME:EEST
DTSTART:20240331T010000
END:DAYLIGHT
BEGIN:STANDARD
TZOFFSETFROM:+0300
TZOFFSETTO:+0200
TZNAME:EET
DTSTART:20241027T010000
END:STANDARD
END:VTIMEZONE
BEGIN:VEVENT
DTSTART;TZID=Europe/Helsinki:20240723T173000
DTEND;TZID=Europe/Helsinki:20240723T200000
DTSTAMP:20260421T114541
CREATED:20240717T092454Z
LAST-MODIFIED:20240717T092454Z
UID:3966-1721755800-1721764800@asociacionlaserena.es
SUMMARY:Cine senior "Padre no hay más que uno 4"
DESCRIPTION:¡La Vocalía de Mayores de nuestra asociación sigue sorprendiéndonos con el programa «Cine Senior» del Ministerio de Cultura!  Esta vez\, te invitamos a disfrutar de una divertida salida al cine en el Centro Comercial Los Fresnos con nuestro grupo.  El próximo encuentro será el martes 23 de julio para ver la película «Padre no hay más que uno 4». \n\n\n\n Sinopsis: ¿Qué pasa cuando un grupo de vecinos comunes y corrientes descubre que tienen superpoderes? En «Superhéroes de Barrio»\, veremos cómo estos personajes enfrentan problemas cotidianos y grandes desafíos mientras aprenden a manejar sus nuevas habilidades. ¡Risas\, aventuras y mucha acción garantizadas! \n\n\n\n Fecha: Martes 23 de julio\n Película: «Padre no hay más que uno 4»\n Hora de la sesión: 18:00\n Punto de encuentro: Local de la asociación a las 17:30 \n\n\n\n¿Te gustaría acompañarnos en esta divertida tarde de cine? ¡Confírmanos tu asistencia para reservar tus entradas! Recuerda llevar tu DNI para acceder a la sala. \n\n\n\n¡No te pierdas la oportunidad de disfrutar de una experiencia cinematográfica inolvidable junto a amigos nuevos y de siempre!
URL:https://asociacionlaserena.es/evento/cine-senior-padre-no-hay-mas-que-uno-4/
LOCATION:Ocine Gijón\, Centro Comercial Los Fresnos\, Gijón\, Asturias\, España
CATEGORIES:Vocalía de Mayores
ATTACH;FMTTYPE=image/jpeg:https://asociacionlaserena.es/wp-content/uploads/6910.jpg
END:VEVENT
END:VCALENDAR