﻿BEGIN:VCALENDAR
VERSION:2.0
PRODID:-//Asociación Vecinal La Serena - ECPv5.9.0//NONSGML v1.0//EN
CALSCALE:GREGORIAN
METHOD:PUBLISH
X-WR-CALNAME:Asociación Vecinal La Serena
X-ORIGINAL-URL:https://asociacionlaserena.es
X-WR-CALDESC:Eventos para Asociación Vecinal La Serena
BEGIN:VTIMEZONE
TZID:Europe/Helsinki
BEGIN:DAYLIGHT
TZOFFSETFROM:+0200
TZOFFSETTO:+0300
TZNAME:EEST
DTSTART:20200329T010000
END:DAYLIGHT
BEGIN:STANDARD
TZOFFSETFROM:+0300
TZOFFSETTO:+0200
TZNAME:EET
DTSTART:20201025T010000
END:STANDARD
END:VTIMEZONE
BEGIN:VEVENT
DTSTART;TZID=Europe/Helsinki:20200506T200000
DTEND;TZID=Europe/Helsinki:20200506T210000
DTSTAMP:20260421T113328
CREATED:20200504T073956Z
LAST-MODIFIED:20200506T140833Z
UID:1583-1588795200-1588798800@asociacionlaserena.es
SUMMARY:Charla sobre alquileres para particulares y negocios
DESCRIPTION:﻿ \n?? Alquiler de Negocios\, alquiler particular\, ¿qué pasa con las rentas?\, ¿puedo pedir alguna ayuda?\, ¿qué requisitos necesito cumplir?… Son muchas las dudas que se plantean y por ello quiero invitaros a la charla que tendrá lugar el próximo ?????? ? ??? ??:?? en colaboración con ??????? ????? ????????????\, en la que se intentarán despejar esas dudas y además nos hablarán de otros temas de actualidad del sector inmobiliario que seguro que os interesarán. \n? Si estáis interesados en asistir poneros en contacto con la asociación vía WhatsApp (644 87 19 17) o a través de mensaje privado por RRSS y os daremos acceso a la sala online donde realizaremos la charla. \n\nAl ser una sala con aforo limitado\, se seguirá un riguroso orden de inscripción\, ¡no lo dejes para el ultimo momento! ⏱⏱ \nAdemás\, para todos los comercios\, negocios y oficinas del barrio de El Llano que se apunten\, Vivalia Grupo Inmobiliario les entregará un obsequio y a los particulares que asistan a la charla se les dará otro distinto al de los negocios.? \n¡Os esperamos! ?
URL:https://asociacionlaserena.es/evento/charla-alquileres-para-particulares-negocios/
CATEGORIES:Charlas dinamizadoras
ATTACH;FMTTYPE=image/jpeg:https://asociacionlaserena.es/wp-content/uploads/charla-dudas-inmobiliarias.jpg
ORGANIZER;CN="Vivalia%20Grupo%20Inmobiliario":MAILTO:info@vivalia-grupo.es
END:VEVENT
END:VCALENDAR