﻿BEGIN:VCALENDAR
VERSION:2.0
PRODID:-//Asociación Vecinal La Serena - ECPv5.9.0//NONSGML v1.0//EN
CALSCALE:GREGORIAN
METHOD:PUBLISH
X-WR-CALNAME:Asociación Vecinal La Serena
X-ORIGINAL-URL:https://asociacionlaserena.es
X-WR-CALDESC:Eventos para Asociación Vecinal La Serena
BEGIN:VTIMEZONE
TZID:Europe/Helsinki
BEGIN:DAYLIGHT
TZOFFSETFROM:+0200
TZOFFSETTO:+0300
TZNAME:EEST
DTSTART:20250330T010000
END:DAYLIGHT
BEGIN:STANDARD
TZOFFSETFROM:+0300
TZOFFSETTO:+0200
TZNAME:EET
DTSTART:20251026T010000
END:STANDARD
END:VTIMEZONE
BEGIN:VEVENT
DTSTART;TZID=Europe/Helsinki:20250522T173000
DTEND;TZID=Europe/Helsinki:20250522T190000
DTSTAMP:20260421T114923
CREATED:20250516T074324Z
LAST-MODIFIED:20250516T074324Z
UID:4696-1747935000-1747940400@asociacionlaserena.es
SUMMARY:🔵 ¡Participa en nuestra Charla sobre Seguridad Ciudadana! 🔵
DESCRIPTION:  \nTe invitamos a una interesante charla en la que aprenderás: \n✅ Cómo actuar ante un delito\n✅ Cómo realizar denuncias anónimas\n✅ Consejos para evitar robos y asaltos\n✅ ¡Y mucho más! \n📅 Fecha: 22 de mayo\n🕠 Hora: 17:30 h\n📍 Lugar: Local de la Asociación (Calle Saavedra\, 49) \nLa charla será impartida por Claudio Alperi\, Inspector del Cuerpo Nacional de Policía\, Delegado de Participación Ciudadana de la Comisaría de Gijón y Coordinador de Seguridad del Real Sporting de Gijón. \n🛡️ ¡No faltes! La seguridad es tarea de todos.\nOrganiza: Asociación Vecinal La Serena
URL:https://asociacionlaserena.es/evento/%f0%9f%94%b5-participa-en-nuestra-charla-sobre-seguridad-ciudadana-%f0%9f%94%b5/
LOCATION:Asociación Vecinal La Serena\, Calle Saavedra\, 49\, Gijón\, Asturias\, 33208\, España
CATEGORIES:Charlas dinamizadoras
ATTACH;FMTTYPE=image/jpeg:https://asociacionlaserena.es/wp-content/uploads/Cartel-A4-106.jpg
ORGANIZER;CN="Asociaci%C3%B3n%20Vecinal%20La%20Serena":MAILTO:info@asociacionlaserena.es
END:VEVENT
END:VCALENDAR