﻿BEGIN:VCALENDAR
VERSION:2.0
PRODID:-//Asociación Vecinal La Serena - ECPv5.9.0//NONSGML v1.0//EN
CALSCALE:GREGORIAN
METHOD:PUBLISH
X-WR-CALNAME:Asociación Vecinal La Serena
X-ORIGINAL-URL:https://asociacionlaserena.es
X-WR-CALDESC:Eventos para Asociación Vecinal La Serena
BEGIN:VTIMEZONE
TZID:Europe/Helsinki
BEGIN:DAYLIGHT
TZOFFSETFROM:+0200
TZOFFSETTO:+0300
TZNAME:EEST
DTSTART:20260329T010000
END:DAYLIGHT
BEGIN:STANDARD
TZOFFSETFROM:+0300
TZOFFSETTO:+0200
TZNAME:EET
DTSTART:20261025T010000
END:STANDARD
END:VTIMEZONE
BEGIN:VEVENT
DTSTART;TZID=Europe/Helsinki:20260423T183000
DTEND;TZID=Europe/Helsinki:20260423T203000
DTSTAMP:20260420T150250
CREATED:20260420T083709Z
LAST-MODIFIED:20260420T083709Z
UID:5891-1776969000-1776976200@asociacionlaserena.es
SUMMARY:📖 Presentación del libro
DESCRIPTION:«De aquellas mujeres\, nosotras. Poemas de memoria y derrota»\nde Rubén Siñeriz Fernández \n\nUn libro de poemas que pretende recordar a las mujeres que sostuvieron el siglo pasado con su esfuerzo y sacrificio. \n\n🎸 El autor llevará una guitarra para acompañar los recitados. Poesía y música en directo. \n🗓️ Jueves 23 de abril – Día del Libro\n⏰ 18:30 h\n📍 Asociación Vecinal La Serena (Gijón) \n¿Por qué venir? \n✨ Para la gente mayor: porque os sentiréis reflejados en las vidas que habéis tenido o las de vuestros padres.\n✨ Para la gente joven: para que sepáis que hubo una vida hace casi un siglo muy diferente a la vuestra. \n📌 Actividad abierta a todo el vecindario.\n¡Os esperamos para compartir memoria\, poesía y comunidad con música de fondo!
URL:https://asociacionlaserena.es/evento/%f0%9f%93%96-presentacion-del-libro/
LOCATION:Asociación Vecinal La Serena\, Calle Saavedra\, 49\, Gijón\, Asturias\, 33208\, España
CATEGORIES:Presentaciones de libros
ATTACH;FMTTYPE=image/jpeg:https://asociacionlaserena.es/wp-content/uploads/WhatsApp-Image-2026-03-16-at-09.33.25.jpeg
ORGANIZER;CN="Asociaci%C3%B3n%20Vecinal%20La%20Serena":MAILTO:info@asociacionlaserena.es
END:VEVENT
END:VCALENDAR