﻿BEGIN:VCALENDAR
VERSION:2.0
PRODID:-//Asociación Vecinal La Serena - ECPv5.9.0//NONSGML v1.0//EN
CALSCALE:GREGORIAN
METHOD:PUBLISH
X-WR-CALNAME:Asociación Vecinal La Serena
X-ORIGINAL-URL:https://asociacionlaserena.es
X-WR-CALDESC:Eventos para Asociación Vecinal La Serena
BEGIN:VTIMEZONE
TZID:Europe/Helsinki
BEGIN:DAYLIGHT
TZOFFSETFROM:+0200
TZOFFSETTO:+0300
TZNAME:EEST
DTSTART:20260329T010000
END:DAYLIGHT
BEGIN:STANDARD
TZOFFSETFROM:+0300
TZOFFSETTO:+0200
TZNAME:EET
DTSTART:20261025T010000
END:STANDARD
END:VTIMEZONE
BEGIN:VEVENT
DTSTART;TZID=Europe/Helsinki:20260427T103000
DTEND;TZID=Europe/Helsinki:20260430T190000
DTSTAMP:20260426T012347
CREATED:20260425T190024Z
LAST-MODIFIED:20260424T154014Z
UID:5911-1777285800-1777575600@asociacionlaserena.es
SUMMARY:🐾 NOS SUMAMOS A LA CAMPAÑA VECINAL 🐾
DESCRIPTION:Desde la Asociación Vecinal La Serena queremos apoyar la iniciativa de la Federación Gijonesa de Asociaciones Vecinales para ayudar a los perros rescatados tras la intervención en el criadero de Serín. \n📍 Somos punto de recogida oficial\nSi quieres colaborar\, puedes traer: \n✅ Empapadores (muy importantes para su higiene)\n✅ Pienso (preferiblemente de bolita pequeña)\n✅ Latas de comida húmeda de calidad \n📅 Fechas: del lunes 27 al jueves 30 de abril (ambos inclusive)\n⏰ Horario en La Serena: \n\n\nLunes y jueves: de 10:30 a 12:30 \n\n\nMartes y miércoles: de 17:00 a 19:00 \n\n\n📞 Contacto: 644 87 19 17 \n🐶 Importante: Los perros NO están en adopción en este momento. Toda la ayuda se centra en su recuperación y bienestar. \nPor ellos\, contamos contigo. ¡Gracias por tu apoyo! 💛
URL:https://asociacionlaserena.es/evento/%f0%9f%90%be-nos-sumamos-a-la-campana-vecinal-%f0%9f%90%be/
LOCATION:Asociación Vecinal La Serena\, Calle Saavedra\, 49\, Gijón\, Asturias\, 33208\, España
CATEGORIES:Evento solidario
ATTACH;FMTTYPE=image/jpeg:https://asociacionlaserena.es/wp-content/uploads/Asociacion-Vecinal-La-Serena.jpg
ORGANIZER;CN="Asociaci%C3%B3n%20Vecinal%20La%20Serena":MAILTO:info@asociacionlaserena.es
END:VEVENT
END:VCALENDAR