﻿BEGIN:VCALENDAR
VERSION:2.0
PRODID:-//Asociación Vecinal La Serena - ECPv5.9.0//NONSGML v1.0//EN
CALSCALE:GREGORIAN
METHOD:PUBLISH
X-WR-CALNAME:Asociación Vecinal La Serena
X-ORIGINAL-URL:https://asociacionlaserena.es
X-WR-CALDESC:Eventos para Asociación Vecinal La Serena
BEGIN:VTIMEZONE
TZID:Europe/Helsinki
BEGIN:DAYLIGHT
TZOFFSETFROM:+0200
TZOFFSETTO:+0300
TZNAME:EEST
DTSTART:20260329T010000
END:DAYLIGHT
BEGIN:STANDARD
TZOFFSETFROM:+0300
TZOFFSETTO:+0200
TZNAME:EET
DTSTART:20261025T010000
END:STANDARD
END:VTIMEZONE
BEGIN:VEVENT
DTSTART;TZID=Europe/Helsinki:20260412T170000
DTEND;TZID=Europe/Helsinki:20260412T203000
DTSTAMP:20260419T190617
CREATED:20260407T190001Z
LAST-MODIFIED:20260406T161837Z
UID:5847-1776013200-1776025800@asociacionlaserena.es
SUMMARY:🎲 Torneo de Parchís 🃏
DESCRIPTION:¡Pasa una tarde divertida y pon a prueba tu suerte! \n🗓 Domingo 12 de abril\n⏰ 17:00 h\n📍 Local de la Asociación (Calle Saavedra\, 49) \n🏆 Diploma para la 1ª y 2ª pareja ganadora \n✍️ Inscripciones en el local o llamando al 644 87 19 17 \n📢 Organiza: Vocalía de Mayores\n🤝 Asociación Vecinal La Serena \n✅ ¡Plazas limitadas! Te esperamos.
URL:https://asociacionlaserena.es/evento/%f0%9f%8e%b2-torneo-de-parchis-%f0%9f%83%8f/
LOCATION:Asociación Vecinal La Serena\, Calle Saavedra\, 49\, Gijón\, Asturias\, 33208\, España
CATEGORIES:Vocalía de Mayores
ATTACH;FMTTYPE=image/jpeg:https://asociacionlaserena.es/wp-content/uploads/parchis-2526-A4-2.jpg
END:VEVENT
END:VCALENDAR