﻿BEGIN:VCALENDAR
VERSION:2.0
PRODID:-//Asociación Vecinal La Serena - ECPv5.9.0//NONSGML v1.0//EN
CALSCALE:GREGORIAN
METHOD:PUBLISH
X-WR-CALNAME:Asociación Vecinal La Serena
X-ORIGINAL-URL:https://asociacionlaserena.es
X-WR-CALDESC:Eventos para Asociación Vecinal La Serena
BEGIN:VTIMEZONE
TZID:Europe/Helsinki
BEGIN:DAYLIGHT
TZOFFSETFROM:+0200
TZOFFSETTO:+0300
TZNAME:EEST
DTSTART:20260329T010000
END:DAYLIGHT
BEGIN:STANDARD
TZOFFSETFROM:+0300
TZOFFSETTO:+0200
TZNAME:EET
DTSTART:20261025T010000
END:STANDARD
END:VTIMEZONE
BEGIN:VEVENT
DTSTART;TZID=Europe/Helsinki:20260425T173000
DTEND;TZID=Europe/Helsinki:20260425T210000
DTSTAMP:20260420T052335
CREATED:20260419T200026Z
LAST-MODIFIED:20260418T164552Z
UID:5886-1777138200-1777150800@asociacionlaserena.es
SUMMARY:🎉 ¡NUEVA CELEBRACIÓN “SERENA DORADA” – EDICIÓN ABRIL! 🎂✨
DESCRIPTION:Tras el rotundo éxito que llevamos cosechando desde el mes de enero\, llega una nueva edición de nuestra iniciativa más especial para los socios mayores de 70 años. ¡Y con una temática que nos va a hacer bailar a todos! 💛 \nNos vemos el sábado 25 de abril a las 17:30 h. \n🎶 Lo más destacado de la tarde:\nCelebraremos los cumpleaños de los socios del mes de abril con música en directo y un ambiente de «Feria de Abril».\nContaremos con la colaboración desinteresada de la Agrupación Artística Gijonesa\, con las actuaciones del grupo de baile formado por Carmen\, Lucía\, Ángela y Laura\, y con la voz de la cantante Marina Toraño.\n🎙️ Presenta: Emilio Dorado\, que pondrá la calidez y el alma a la velada. \n🎂 Y para completar la fiesta: tarta para todos los asistentes\, sorpresas especiales y un ambiente único para celebrar a nuestros cumpleañeros de abril. \n📅 Sábado 25 de abril\n⏰ 17:30 h\n📍 Local de la Asociación Vecinal La Serena \n⚠️ ¡Aforo limitado! No te quedes sin tu plaza. \n🌹 Abierto a todos: esta celebración está pensada para que disfruten tanto los cumpleañeros como todas las personas que quieran acompañarnos. Socios\, familiares\, amigos… todos son bienvenidos. \n💛 “Serena Dorada”: un homenaje con música\, corazón y el mejor ambiente.\n¡Corre la voz\, trae a quien quieras y ven a vivir una tarde para recordar! 🎶💃🎉
URL:https://asociacionlaserena.es/evento/%f0%9f%8e%89-nueva-celebracion-serena-dorada-edicion-abril-%f0%9f%8e%82%e2%9c%a8/
LOCATION:Asociación Vecinal La Serena\, Calle Saavedra\, 49\, Gijón\, Asturias\, 33208\, España
CATEGORIES:Vocalía de Mayores
ATTACH;FMTTYPE=image/jpeg:https://asociacionlaserena.es/wp-content/uploads/WhatsApp-Image-2026-04-09-at-14.50.40.jpeg
END:VEVENT
END:VCALENDAR