﻿BEGIN:VCALENDAR
VERSION:2.0
PRODID:-//Asociación Vecinal La Serena - ECPv5.9.0//NONSGML v1.0//EN
CALSCALE:GREGORIAN
METHOD:PUBLISH
X-WR-CALNAME:Asociación Vecinal La Serena
X-ORIGINAL-URL:https://asociacionlaserena.es
X-WR-CALDESC:Eventos para Asociación Vecinal La Serena
BEGIN:VTIMEZONE
TZID:Europe/Helsinki
BEGIN:DAYLIGHT
TZOFFSETFROM:+0200
TZOFFSETTO:+0300
TZNAME:EEST
DTSTART:20250330T010000
END:DAYLIGHT
BEGIN:STANDARD
TZOFFSETFROM:+0300
TZOFFSETTO:+0200
TZNAME:EET
DTSTART:20251026T010000
END:STANDARD
END:VTIMEZONE
BEGIN:VEVENT
DTSTART;TZID=Europe/Helsinki:20250525T170000
DTEND;TZID=Europe/Helsinki:20250525T183000
DTSTAMP:20260419T162853
CREATED:20250518T180020Z
LAST-MODIFIED:20250516T071017Z
UID:4691-1748192400-1748197800@asociacionlaserena.es
SUMMARY:🌍🍽 ¡Viaja por el mundo sin salir de Gijón!
DESCRIPTION:  \nLa Vocalía de Juventud de la Asociación Vecinal La Serena\, en colaboración con la Sociedad de San Vicente de Paúl (SSVP)\, organiza la 1.ª edición del Taller de Gastronomía Internacional. \n📅 Domingo 25 de mayo\n🕔 De 17:00 a 18:30 h\n📍 Asociación La Serena (C/ Saavedra 49\, bajo) \nUn encuentro multicultural donde podrás explorar sabores del mundo y conocer las tradiciones culinarias de distintos países. \n👥 Máximo 15 plazas\n💸 Precio: 2 €\n📞 Inscripciones hasta el 23 de mayo en la Asociación Vecinal La Serena o llamando al 644 871 917 \n🔸 Presentación de la Sociedad de San Vicente de Paúl (SSVP)\n🔸 Presentación de la Vocalía de Juventud\n🔸 Cultura y gastronomía de diferentes países\n🔸 Cata de platos internacionales\n🔸 Recetario para llevar \n¡Una experiencia deliciosa y enriquecedora te espera! 🍛🌮
URL:https://asociacionlaserena.es/evento/%f0%9f%8c%8d%f0%9f%8d%bd-viaja-por-el-mundo-sin-salir-de-gijon/
LOCATION:Asociación Vecinal La Serena\, Calle Saavedra\, 49\, Gijón\, Asturias\, 33208\, España
CATEGORIES:Vocalía de la juventud
ATTACH;FMTTYPE=image/jpeg:https://asociacionlaserena.es/wp-content/uploads/WhatsApp-Image-2025-05-15-at-13.46.51.jpeg
ORGANIZER;CN="Vocal%C3%ADa%20de%20la%20juventud%20de%20la%20Asociaci%C3%B3n%20Vecinal%20La%20Serena":MAILTO:juventud@asociacionlaserena.es
END:VEVENT
END:VCALENDAR